BEGIN:VCALENDAR
VERSION:2.0
PRODID:-//St Paul&#039;s College - ECPv4.6.2//NONSGML v1.0//EN
CALSCALE:GREGORIAN
METHOD:PUBLISH
X-WR-CALNAME:St Paul&#039;s College
X-ORIGINAL-URL:http://www.stpaulscollege.ie
X-WR-CALDESC:Events for St Paul&#039;s College
BEGIN:VEVENT
DTSTART;TZID=Europe/Dublin:20170911T080000
DTEND;TZID=Europe/Dublin:20171130T170000
DTSTAMP:20171101T000352
CREATED:20170921T121633Z
LAST-MODIFIED:20170921T121633Z
UID:61219-1505116800-1512061200@www.stpaulscollege.ie
SUMMARY:TY Boxing
DESCRIPTION:TY Boxing programme  in College for the first four weeks. Second session in Trinity Boxing Club. Finally a smaller group to High Performance Gym in South Circular Rd. \n
URL:http://www.stpaulscollege.ie/calendar/ty-boxing/
END:VEVENT
END:VCALENDAR